Package: RNAmodR Version: 1.21.0 Command: /Library/Frameworks/R.framework/Resources/bin/R CMD build --keep-empty-dirs --no-resave-data RNAmodR StartedAt: 2025-02-04 17:26:14 -0500 (Tue, 04 Feb 2025) EndedAt: 2025-02-04 17:27:26 -0500 (Tue, 04 Feb 2025) EllapsedTime: 71.8 seconds RetCode: 0 Status: OK PackageFile: RNAmodR_1.21.0.tar.gz PackageFileSize: 1.513 MiB