Package: RNAmodR Version: 1.21.0 Command: /Library/Frameworks/R.framework/Resources/bin/R CMD INSTALL RNAmodR StartedAt: 2025-02-04 15:17:04 -0500 (Tue, 04 Feb 2025) EndedAt: 2025-02-04 15:17:31 -0500 (Tue, 04 Feb 2025) EllapsedTime: 27.4 seconds RetCode: 0 Status: OK