Package: RNAmodR Version: 1.21.0 Command: /home/biocbuild/R/R/bin/R CMD build --keep-empty-dirs --no-resave-data RNAmodR StartedAt: 2025-01-29 01:46:20 -0000 (Wed, 29 Jan 2025) EndedAt: 2025-01-29 01:51:01 -0000 (Wed, 29 Jan 2025) EllapsedTime: 281.2 seconds RetCode: 0 Status: OK PackageFile: RNAmodR_1.21.0.tar.gz PackageFileSize: 1.432 MiB