Package: RNAmodR Version: 1.21.0 Command: rm -rf RNAmodR.buildbin-libdir && mkdir RNAmodR.buildbin-libdir && /Users/biocbuild/BBS/utils/build-universal.sh RNAmodR_1.21.0.tar.gz /Library/Frameworks/R.framework/Resources/bin/R RNAmodR.buildbin-libdir StartedAt: 2025-02-10 01:12:25 -0500 (Mon, 10 Feb 2025) EndedAt: 2025-02-10 01:14:05 -0500 (Mon, 10 Feb 2025) EllapsedTime: 100.8 seconds RetCode: 0 Status: OK PackageFile: RNAmodR_1.21.0.tgz PackageFileSize: 2.979 MiB