Package: RNAmodR Version: 1.21.0 Command: /Library/Frameworks/R.framework/Resources/bin/R CMD INSTALL RNAmodR StartedAt: 2025-02-09 15:28:15 -0500 (Sun, 09 Feb 2025) EndedAt: 2025-02-09 15:29:53 -0500 (Sun, 09 Feb 2025) EllapsedTime: 97.4 seconds RetCode: 0 Status: OK