Package: RNAmodR Version: 1.21.0 Command: /home/biocbuild/bbs-3.21-bioc/R/bin/R CMD INSTALL RNAmodR StartedAt: 2025-02-09 15:46:42 -0500 (Sun, 09 Feb 2025) EndedAt: 2025-02-09 15:47:54 -0500 (Sun, 09 Feb 2025) EllapsedTime: 72.4 seconds RetCode: 0 Status: OK