Package: RNAmodR Version: 1.21.0 Command: rm -rf RNAmodR.buildbin-libdir && mkdir RNAmodR.buildbin-libdir && E:\biocbuild\bbs-3.21-bioc\R\bin\R.exe CMD INSTALL --build --library=RNAmodR.buildbin-libdir RNAmodR_1.21.0.tar.gz StartedAt: 2025-02-05 08:45:32 -0500 (Wed, 05 Feb 2025) EndedAt: 2025-02-05 08:48:17 -0500 (Wed, 05 Feb 2025) EllapsedTime: 164.4 seconds RetCode: 0 Status: OK PackageFile: RNAmodR_1.21.0.zip PackageFileSize: 2.758 MiB