Package: RNAmodR Version: 1.21.0 Command: E:\biocbuild\bbs-3.21-bioc\R\bin\R.exe CMD check --no-multiarch --install=check:RNAmodR.install-out.txt --library=E:\biocbuild\bbs-3.21-bioc\R\library --no-vignettes --timings RNAmodR_1.21.0.tar.gz StartedAt: 2025-02-10 04:46:24 -0500 (Mon, 10 Feb 2025) EndedAt: 2025-02-10 04:58:02 -0500 (Mon, 10 Feb 2025) EllapsedTime: 697.6 seconds RetCode: 0 Status: OK CheckDir: RNAmodR.Rcheck Warnings: 0