Package: RNAsense Version: 1.21.0 Command: rm -rf RNAsense.buildbin-libdir && mkdir RNAsense.buildbin-libdir && /Users/biocbuild/BBS/utils/build-universal.sh RNAsense_1.21.0.tar.gz /Library/Frameworks/R.framework/Resources/bin/R RNAsense.buildbin-libdir StartedAt: 2025-02-09 22:28:14 -0500 (Sun, 09 Feb 2025) EndedAt: 2025-02-09 22:28:24 -0500 (Sun, 09 Feb 2025) EllapsedTime: 10.2 seconds RetCode: 0 Status: OK PackageFile: RNAsense_1.21.0.tgz PackageFileSize: 949.7 KiB