Package: RNAsense Version: 1.21.0 Command: /home/biocbuild/R/R/bin/R CMD check --install=check:RNAsense.install-out.txt --library=/home/biocbuild/R/R/site-library --no-vignettes --timings RNAsense_1.21.0.tar.gz StartedAt: 2025-01-28 14:39:20 -0000 (Tue, 28 Jan 2025) EndedAt: 2025-01-28 14:56:32 -0000 (Tue, 28 Jan 2025) EllapsedTime: 1031.5 seconds RetCode: 0 Status: WARNINGS CheckDir: RNAsense.Rcheck Warnings: 1