Package: RNAsense Version: 1.21.0 Command: /home/biocbuild/bbs-3.21-bioc/R/bin/R CMD check --install=check:RNAsense.install-out.txt --library=/home/biocbuild/bbs-3.21-bioc/R/site-library --timings RNAsense_1.21.0.tar.gz StartedAt: 2025-02-13 02:00:44 -0500 (Thu, 13 Feb 2025) EndedAt: 2025-02-13 02:15:38 -0500 (Thu, 13 Feb 2025) EllapsedTime: 893.3 seconds RetCode: 0 Status: WARNINGS CheckDir: RNAsense.Rcheck Warnings: 1