Package: RNAsense Version: 1.21.0 Command: chmod a+r RNAsense -R && E:\biocbuild\bbs-3.21-bioc\R\bin\R.exe CMD build --keep-empty-dirs --no-resave-data RNAsense StartedAt: 2025-02-04 21:17:07 -0500 (Tue, 04 Feb 2025) EndedAt: 2025-02-04 21:23:46 -0500 (Tue, 04 Feb 2025) EllapsedTime: 399.5 seconds RetCode: 0 Status: OK PackageFile: RNAsense_1.21.0.tar.gz PackageFileSize: 837.3 KiB