Package: ROC Version: 1.83.0 Command: /Library/Frameworks/R.framework/Resources/bin/R CMD INSTALL ROC StartedAt: 2025-02-09 15:03:12 -0500 (Sun, 09 Feb 2025) EndedAt: 2025-02-09 15:03:18 -0500 (Sun, 09 Feb 2025) EllapsedTime: 5.7 seconds RetCode: 0 Status: OK