Package: ROC Version: 1.83.0 Command: rm -rf ROC.buildbin-libdir && mkdir ROC.buildbin-libdir && /Users/biocbuild/BBS/utils/build-universal.sh ROC_1.83.0.tar.gz /Library/Frameworks/R.framework/Resources/bin/R ROC.buildbin-libdir StartedAt: 2025-02-13 00:55:17 -0500 (Thu, 13 Feb 2025) EndedAt: 2025-02-13 00:55:24 -0500 (Thu, 13 Feb 2025) EllapsedTime: 6.9 seconds RetCode: 0 Status: OK PackageFile: ROC_1.83.0.tgz PackageFileSize: 271.2 KiB