Package: ROC Version: 1.83.0 Command: /Library/Frameworks/R.framework/Resources/bin/R CMD check --install=check:ROC.install-out.txt --library=/Library/Frameworks/R.framework/Resources/library --no-vignettes --timings ROC_1.83.0.tar.gz StartedAt: 2025-02-12 22:57:22 -0500 (Wed, 12 Feb 2025) EndedAt: 2025-02-12 22:57:57 -0500 (Wed, 12 Feb 2025) EllapsedTime: 34.3 seconds RetCode: 0 Status: OK CheckDir: ROC.Rcheck Warnings: 0