Package: ROC Version: 1.83.0 Command: /home/biocbuild/bbs-3.21-bioc/R/bin/R CMD check --install=check:ROC.install-out.txt --library=/home/biocbuild/bbs-3.21-bioc/R/site-library --timings ROC_1.83.0.tar.gz StartedAt: 2025-02-10 02:03:02 -0500 (Mon, 10 Feb 2025) EndedAt: 2025-02-10 02:03:22 -0500 (Mon, 10 Feb 2025) EllapsedTime: 20.0 seconds RetCode: 0 Status: OK CheckDir: ROC.Rcheck Warnings: 0