Package: ROC Version: 1.83.0 Command: chmod a+r ROC -R && E:\biocbuild\bbs-3.21-bioc\R\bin\R.exe CMD build --keep-empty-dirs --no-resave-data ROC StartedAt: 2025-02-09 21:15:26 -0500 (Sun, 09 Feb 2025) EndedAt: 2025-02-09 21:15:38 -0500 (Sun, 09 Feb 2025) EllapsedTime: 12.2 seconds RetCode: 0 Status: OK PackageFile: ROC_1.83.0.tar.gz PackageFileSize: 251.2 KiB