Package: ROC Version: 1.83.0 Command: E:\biocbuild\bbs-3.21-bioc\R\bin\R.exe CMD INSTALL ROC StartedAt: 2025-02-09 15:27:33 -0500 (Sun, 09 Feb 2025) EndedAt: 2025-02-09 15:27:44 -0500 (Sun, 09 Feb 2025) EllapsedTime: 10.8 seconds RetCode: 0 Status: OK