Package: ROCpAI Version: 1.19.0 Command: /home/biocbuild/R/R/bin/R CMD build --keep-empty-dirs --no-resave-data ROCpAI StartedAt: 2025-01-29 01:49:52 -0000 (Wed, 29 Jan 2025) EndedAt: 2025-01-29 01:50:36 -0000 (Wed, 29 Jan 2025) EllapsedTime: 44.0 seconds RetCode: 0 Status: OK PackageFile: ROCpAI_1.19.0.tar.gz PackageFileSize: 408.1 KiB