Package: ROCpAI Version: 1.19.0 Command: /home/biocbuild/R/R/bin/R CMD check --install=check:ROCpAI.install-out.txt --library=/home/biocbuild/R/R/site-library --no-vignettes --timings ROCpAI_1.19.0.tar.gz StartedAt: 2025-01-28 14:41:33 -0000 (Tue, 28 Jan 2025) EndedAt: 2025-01-28 14:44:31 -0000 (Tue, 28 Jan 2025) EllapsedTime: 177.2 seconds RetCode: 0 Status: OK CheckDir: ROCpAI.Rcheck Warnings: 0