Package: ROCpAI Version: 1.19.0 Command: /home/biocbuild/R/R/bin/R CMD INSTALL ROCpAI StartedAt: 2025-01-29 20:15:07 -0000 (Wed, 29 Jan 2025) EndedAt: 2025-01-29 20:15:34 -0000 (Wed, 29 Jan 2025) EllapsedTime: 27.6 seconds RetCode: 0 Status: OK