Package: ROCpAI Version: 1.19.0 Command: /Library/Frameworks/R.framework/Resources/bin/R CMD INSTALL ROCpAI StartedAt: 2025-02-09 15:31:22 -0500 (Sun, 09 Feb 2025) EndedAt: 2025-02-09 15:31:51 -0500 (Sun, 09 Feb 2025) EllapsedTime: 29.4 seconds RetCode: 0 Status: OK