Package: ROCpAI Version: 1.19.0 Command: /home/biocbuild/bbs-3.21-bioc/R/bin/R CMD build --keep-empty-dirs --no-resave-data ROCpAI StartedAt: 2025-02-09 18:59:45 -0500 (Sun, 09 Feb 2025) EndedAt: 2025-02-09 19:00:20 -0500 (Sun, 09 Feb 2025) EllapsedTime: 35.0 seconds RetCode: 0 Status: OK PackageFile: ROCpAI_1.19.0.tar.gz PackageFileSize: 407.7 KiB