Package: ROCpAI Version: 1.19.0 Command: rm -rf ROCpAI.buildbin-libdir && mkdir ROCpAI.buildbin-libdir && E:\biocbuild\bbs-3.21-bioc\R\bin\R.exe CMD INSTALL --build --library=ROCpAI.buildbin-libdir ROCpAI_1.19.0.tar.gz StartedAt: 2025-02-10 08:35:15 -0500 (Mon, 10 Feb 2025) EndedAt: 2025-02-10 08:35:40 -0500 (Mon, 10 Feb 2025) EllapsedTime: 24.3 seconds RetCode: 0 Status: OK PackageFile: ROCpAI_1.19.0.zip PackageFileSize: 366.2 KiB