Package: ROCpAI Version: 1.19.0 Command: chmod a+r ROCpAI -R && E:\biocbuild\bbs-3.21-bioc\R\bin\R.exe CMD build --keep-empty-dirs --no-resave-data ROCpAI StartedAt: 2025-02-09 21:15:36 -0500 (Sun, 09 Feb 2025) EndedAt: 2025-02-09 21:16:21 -0500 (Sun, 09 Feb 2025) EllapsedTime: 44.9 seconds RetCode: 0 Status: OK PackageFile: ROCpAI_1.19.0.tar.gz PackageFileSize: 324.1 KiB