Package: ROCpAI Version: 1.19.0 Command: E:\biocbuild\bbs-3.21-bioc\R\bin\R.exe CMD check --no-multiarch --install=check:ROCpAI.install-out.txt --library=E:\biocbuild\bbs-3.21-bioc\R\library --no-vignettes --timings ROCpAI_1.19.0.tar.gz StartedAt: 2025-02-10 04:50:26 -0500 (Mon, 10 Feb 2025) EndedAt: 2025-02-10 04:53:07 -0500 (Mon, 10 Feb 2025) EllapsedTime: 161.0 seconds RetCode: 0 Status: OK CheckDir: ROCpAI.Rcheck Warnings: 0