Package: ROTS Version: 1.99.11 Command: /Library/Frameworks/R.framework/Resources/bin/R CMD build --keep-empty-dirs --no-resave-data ROTS StartedAt: 2025-02-04 17:27:30 -0500 (Tue, 04 Feb 2025) EndedAt: 2025-02-04 17:27:41 -0500 (Tue, 04 Feb 2025) EllapsedTime: 11.1 seconds RetCode: 0 Status: OK PackageFile: ROTS_1.99.11.tar.gz PackageFileSize: 459.3 KiB