Package: ROTS Version: 1.99.11 Command: /home/biocbuild/R/R/bin/R CMD build --keep-empty-dirs --no-resave-data ROTS StartedAt: 2025-01-29 01:50:39 -0000 (Wed, 29 Jan 2025) EndedAt: 2025-01-29 01:51:17 -0000 (Wed, 29 Jan 2025) EllapsedTime: 38.0 seconds RetCode: 0 Status: OK PackageFile: ROTS_1.99.11.tar.gz PackageFileSize: 457.6 KiB