Package: ROTS Version: 1.99.11 Command: /home/biocbuild/R/R/bin/R CMD check --install=check:ROTS.install-out.txt --library=/home/biocbuild/R/R/site-library --no-vignettes --timings ROTS_1.99.11.tar.gz StartedAt: 2025-01-28 14:42:47 -0000 (Tue, 28 Jan 2025) EndedAt: 2025-01-28 14:44:44 -0000 (Tue, 28 Jan 2025) EllapsedTime: 117.1 seconds RetCode: 0 Status: OK CheckDir: ROTS.Rcheck Warnings: 0