Package: ROTS Version: 1.99.11 Command: /Library/Frameworks/R.framework/Resources/bin/R CMD INSTALL ROTS StartedAt: 2025-02-09 15:13:59 -0500 (Sun, 09 Feb 2025) EndedAt: 2025-02-09 15:14:22 -0500 (Sun, 09 Feb 2025) EllapsedTime: 23.1 seconds RetCode: 0 Status: OK