Package: ROTS Version: 1.99.11 Command: rm -rf ROTS.buildbin-libdir && mkdir ROTS.buildbin-libdir && E:\biocbuild\bbs-3.21-bioc\R\bin\R.exe CMD INSTALL --build --library=ROTS.buildbin-libdir ROTS_1.99.11.tar.gz StartedAt: 2025-02-05 08:46:56 -0500 (Wed, 05 Feb 2025) EndedAt: 2025-02-05 08:47:26 -0500 (Wed, 05 Feb 2025) EllapsedTime: 29.9 seconds RetCode: 0 Status: OK PackageFile: ROTS_1.99.11.zip PackageFileSize: 769.1 KiB