Package: ROTS Version: 1.99.11 Command: chmod a+r ROTS -R && E:\biocbuild\bbs-3.21-bioc\R\bin\R.exe CMD build --keep-empty-dirs --no-resave-data ROTS StartedAt: 2025-02-04 21:19:42 -0500 (Tue, 04 Feb 2025) EndedAt: 2025-02-04 21:20:26 -0500 (Tue, 04 Feb 2025) EllapsedTime: 43.5 seconds RetCode: 0 Status: OK PackageFile: ROTS_1.99.11.tar.gz PackageFileSize: 351.3 KiB