Package: ROntoTools Version: 2.35.0 Command: /Library/Frameworks/R.framework/Resources/bin/R CMD build --keep-empty-dirs --no-resave-data ROntoTools StartedAt: 2025-02-09 17:27:14 -0500 (Sun, 09 Feb 2025) EndedAt: 2025-02-09 17:27:31 -0500 (Sun, 09 Feb 2025) EllapsedTime: 17.2 seconds RetCode: 0 Status: OK PackageFile: ROntoTools_2.35.0.tar.gz PackageFileSize: 1.487 MiB