Package: ROntoTools Version: 2.35.0 Command: /Library/Frameworks/R.framework/Resources/bin/R CMD check --install=check:ROntoTools.install-out.txt --library=/Library/Frameworks/R.framework/Resources/library --no-vignettes --timings ROntoTools_2.35.0.tar.gz StartedAt: 2025-02-09 21:03:03 -0500 (Sun, 09 Feb 2025) EndedAt: 2025-02-09 21:04:03 -0500 (Sun, 09 Feb 2025) EllapsedTime: 59.6 seconds RetCode: 0 Status: WARNINGS CheckDir: ROntoTools.Rcheck Warnings: 1