Package: ROntoTools Version: 2.35.0 Command: /Library/Frameworks/R.framework/Resources/bin/R CMD INSTALL ROntoTools StartedAt: 2025-02-09 15:04:20 -0500 (Sun, 09 Feb 2025) EndedAt: 2025-02-09 15:04:25 -0500 (Sun, 09 Feb 2025) EllapsedTime: 5.5 seconds RetCode: 0 Status: OK