Package: ROntoTools Version: 2.35.0 Command: /home/biocbuild/R/R/bin/R CMD build --keep-empty-dirs --no-resave-data ROntoTools StartedAt: 2025-01-29 01:50:23 -0000 (Wed, 29 Jan 2025) EndedAt: 2025-01-29 01:51:18 -0000 (Wed, 29 Jan 2025) EllapsedTime: 55.1 seconds RetCode: 0 Status: OK PackageFile: ROntoTools_2.35.0.tar.gz PackageFileSize: 1.472 MiB