Package: ROntoTools Version: 2.35.0 Command: /home/biocbuild/R/R/bin/R CMD INSTALL ROntoTools StartedAt: 2025-01-29 19:39:00 -0000 (Wed, 29 Jan 2025) EndedAt: 2025-01-29 19:39:16 -0000 (Wed, 29 Jan 2025) EllapsedTime: 16.5 seconds RetCode: 0 Status: OK