Package: ROntoTools Version: 2.35.0 Command: /Library/Frameworks/R.framework/Resources/bin/R CMD build --keep-empty-dirs --no-resave-data ROntoTools StartedAt: 2025-02-04 18:06:09 -0500 (Tue, 04 Feb 2025) EndedAt: 2025-02-04 18:06:56 -0500 (Tue, 04 Feb 2025) EllapsedTime: 46.9 seconds RetCode: 0 Status: OK PackageFile: ROntoTools_2.35.0.tar.gz PackageFileSize: 1.487 MiB