Package: ROntoTools Version: 2.35.0 Command: /Library/Frameworks/R.framework/Resources/bin/R CMD INSTALL ROntoTools StartedAt: 2025-02-04 15:09:50 -0500 (Tue, 04 Feb 2025) EndedAt: 2025-02-04 15:10:08 -0500 (Tue, 04 Feb 2025) EllapsedTime: 17.9 seconds RetCode: 0 Status: OK