Package: ROntoTools Version: 2.35.0 Command: /home/biocbuild/bbs-3.21-bioc/R/bin/R CMD check --install=check:ROntoTools.install-out.txt --library=/home/biocbuild/bbs-3.21-bioc/R/site-library --timings ROntoTools_2.35.0.tar.gz StartedAt: 2025-02-10 02:03:51 -0500 (Mon, 10 Feb 2025) EndedAt: 2025-02-10 02:06:52 -0500 (Mon, 10 Feb 2025) EllapsedTime: 181.2 seconds RetCode: 0 Status: WARNINGS CheckDir: ROntoTools.Rcheck Warnings: 1