Package: ROntoTools Version: 2.35.0 Command: /home/biocbuild/bbs-3.21-bioc/R/bin/R CMD INSTALL ROntoTools StartedAt: 2025-02-04 15:23:08 -0500 (Tue, 04 Feb 2025) EndedAt: 2025-02-04 15:23:21 -0500 (Tue, 04 Feb 2025) EllapsedTime: 12.2 seconds RetCode: 0 Status: OK