Package: ROntoTools Version: 2.35.0 Command: rm -rf ROntoTools.buildbin-libdir && mkdir ROntoTools.buildbin-libdir && E:\biocbuild\bbs-3.21-bioc\R\bin\R.exe CMD INSTALL --build --library=ROntoTools.buildbin-libdir ROntoTools_2.35.0.tar.gz StartedAt: 2025-02-10 08:35:20 -0500 (Mon, 10 Feb 2025) EndedAt: 2025-02-10 08:35:51 -0500 (Mon, 10 Feb 2025) EllapsedTime: 31.0 seconds RetCode: 0 Status: OK PackageFile: ROntoTools_2.35.0.zip PackageFileSize: 1.476 MiB