Package: ROntoTools Version: 2.35.0 Command: chmod a+r ROntoTools -R && E:\biocbuild\bbs-3.21-bioc\R\bin\R.exe CMD build --keep-empty-dirs --no-resave-data ROntoTools StartedAt: 2025-02-09 21:16:23 -0500 (Sun, 09 Feb 2025) EndedAt: 2025-02-09 21:17:27 -0500 (Sun, 09 Feb 2025) EllapsedTime: 63.6 seconds RetCode: 0 Status: OK PackageFile: ROntoTools_2.35.0.tar.gz PackageFileSize: 1.357 MiB