Package: ROntoTools Version: 2.35.0 Command: E:\biocbuild\bbs-3.21-bioc\R\bin\R.exe CMD check --no-multiarch --install=check:ROntoTools.install-out.txt --library=E:\biocbuild\bbs-3.21-bioc\R\library --no-vignettes --timings ROntoTools_2.35.0.tar.gz StartedAt: 2025-02-05 05:16:18 -0500 (Wed, 05 Feb 2025) EndedAt: 2025-02-05 05:19:22 -0500 (Wed, 05 Feb 2025) EllapsedTime: 183.9 seconds RetCode: 0 Status: WARNINGS CheckDir: ROntoTools.Rcheck Warnings: 1