Package: RProtoBufLib Version: 2.19.0 Command: /Library/Frameworks/R.framework/Resources/bin/R CMD build --keep-empty-dirs --no-resave-data RProtoBufLib StartedAt: 2025-02-09 17:27:26 -0500 (Sun, 09 Feb 2025) EndedAt: 2025-02-09 17:28:57 -0500 (Sun, 09 Feb 2025) EllapsedTime: 91.1 seconds RetCode: 0 Status: OK PackageFile: RProtoBufLib_2.19.0.tar.gz PackageFileSize: 2.796 MiB