Package: RProtoBufLib Version: 2.19.0 Command: /Library/Frameworks/R.framework/Resources/bin/R CMD check --install=check:RProtoBufLib.install-out.txt --library=/Library/Frameworks/R.framework/Resources/library --no-vignettes --timings RProtoBufLib_2.19.0.tar.gz StartedAt: 2025-02-09 21:04:07 -0500 (Sun, 09 Feb 2025) EndedAt: 2025-02-09 21:04:17 -0500 (Sun, 09 Feb 2025) EllapsedTime: 10.1 seconds RetCode: 0 Status: WARNINGS CheckDir: RProtoBufLib.Rcheck Warnings: 2