Package: RProtoBufLib Version: 2.19.0 Command: /Library/Frameworks/R.framework/Resources/bin/R CMD INSTALL RProtoBufLib StartedAt: 2025-02-09 15:00:54 -0500 (Sun, 09 Feb 2025) EndedAt: 2025-02-09 15:02:18 -0500 (Sun, 09 Feb 2025) EllapsedTime: 84.2 seconds RetCode: 0 Status: OK