Package: RProtoBufLib Version: 2.19.0 Command: /home/biocbuild/R/R/bin/R CMD build --keep-empty-dirs --no-resave-data RProtoBufLib StartedAt: 2025-01-29 01:51:14 -0000 (Wed, 29 Jan 2025) EndedAt: 2025-01-29 01:58:05 -0000 (Wed, 29 Jan 2025) EllapsedTime: 411.4 seconds RetCode: 1 Status: ERROR PackageFile: None PackageFileSize: NA