Package: RProtoBufLib Version: 2.19.0 Command: rm -rf RProtoBufLib.buildbin-libdir && mkdir RProtoBufLib.buildbin-libdir && /Users/biocbuild/BBS/utils/build-universal.sh RProtoBufLib_2.19.0.tar.gz /Library/Frameworks/R.framework/Resources/bin/R RProtoBufLib.buildbin-libdir StartedAt: 2025-02-10 01:13:08 -0500 (Mon, 10 Feb 2025) EndedAt: 2025-02-10 01:20:23 -0500 (Mon, 10 Feb 2025) EllapsedTime: 434.6 seconds RetCode: 0 Status: OK PackageFile: RProtoBufLib_2.19.0.tgz PackageFileSize: 3.461 MiB