Package: RProtoBufLib Version: 2.19.0 Command: /Library/Frameworks/R.framework/Resources/bin/R CMD build --keep-empty-dirs --no-resave-data RProtoBufLib StartedAt: 2025-02-12 18:06:36 -0500 (Wed, 12 Feb 2025) EndedAt: 2025-02-12 18:11:59 -0500 (Wed, 12 Feb 2025) EllapsedTime: 322.5 seconds RetCode: 0 Status: OK PackageFile: RProtoBufLib_2.19.0.tar.gz PackageFileSize: 2.786 MiB